BEGIN:VCALENDAR
VERSION:2.0
PRODID:-//VelocityEHS Help - ECPv6.15.20//NONSGML v1.0//EN
CALSCALE:GREGORIAN
METHOD:PUBLISH
X-WR-CALNAME:VelocityEHS Help
X-ORIGINAL-URL:https://help.ehs.com
X-WR-CALDESC:Events for VelocityEHS Help
REFRESH-INTERVAL;VALUE=DURATION:PT1H
X-Robots-Tag:noindex
X-PUBLISHED-TTL:PT1H
BEGIN:VTIMEZONE
TZID:America/Chicago
BEGIN:DAYLIGHT
TZOFFSETFROM:-0600
TZOFFSETTO:-0500
TZNAME:CDT
DTSTART:20250309T080000
END:DAYLIGHT
BEGIN:STANDARD
TZOFFSETFROM:-0500
TZOFFSETTO:-0600
TZNAME:CST
DTSTART:20251102T070000
END:STANDARD
BEGIN:DAYLIGHT
TZOFFSETFROM:-0600
TZOFFSETTO:-0500
TZNAME:CDT
DTSTART:20260308T080000
END:DAYLIGHT
BEGIN:STANDARD
TZOFFSETFROM:-0500
TZOFFSETTO:-0600
TZNAME:CST
DTSTART:20261101T070000
END:STANDARD
BEGIN:DAYLIGHT
TZOFFSETFROM:-0600
TZOFFSETTO:-0500
TZNAME:CDT
DTSTART:20270314T080000
END:DAYLIGHT
BEGIN:STANDARD
TZOFFSETFROM:-0500
TZOFFSETTO:-0600
TZNAME:CST
DTSTART:20271107T070000
END:STANDARD
END:VTIMEZONE
BEGIN:VEVENT
DTSTART;TZID=America/Chicago:20260602T140000
DTEND;TZID=America/Chicago:20260602T153000
DTSTAMP:20260421T120205
CREATED:20250609T165845Z
LAST-MODIFIED:20260223T191609Z
UID:37147-1780408800-1780414200@help.ehs.com
SUMMARY:Industrial Ergonomics: Collect Accurate Force Data [Fundamental]
DESCRIPTION:NOTE: This is a fundamental training for a user of the Industrial Ergonomics software. \nThis training will provide an in-depth look at how forces contribute to  the Ergonomics Assessment process. Key Training Topics:  \n\nUnderstanding the principles of how the body generates force\nHow to select and use Data Collection Tools\, such as strain gauges and grip dynamometers\nBest practices for navigating data entry\, including a detailed refresher on  how to correctly record your data in our Advanced Risk Assessment tool\n\nRegister Here
URL:https://help.ehs.com/community-events/industrial-ergonomics-collect-accurate-force-data-fundamental/
CATEGORIES:Industrial Ergonomics
ATTACH;FMTTYPE=image/png:https://help.ehs.com/wp-content/uploads/Icons_1x1in_.125stroke_RGB_Solution_Industrial-Ergonomics-e1757086218762.png
END:VEVENT
END:VCALENDAR