BEGIN:VCALENDAR
VERSION:2.0
PRODID:-//VelocityEHS Help - ECPv6.15.20//NONSGML v1.0//EN
CALSCALE:GREGORIAN
METHOD:PUBLISH
X-WR-CALNAME:VelocityEHS Help
X-ORIGINAL-URL:https://help.ehs.com
X-WR-CALDESC:Events for VelocityEHS Help
REFRESH-INTERVAL;VALUE=DURATION:PT1H
X-Robots-Tag:noindex
X-PUBLISHED-TTL:PT1H
BEGIN:VTIMEZONE
TZID:America/Chicago
BEGIN:DAYLIGHT
TZOFFSETFROM:-0600
TZOFFSETTO:-0500
TZNAME:CDT
DTSTART:20230312T080000
END:DAYLIGHT
BEGIN:STANDARD
TZOFFSETFROM:-0500
TZOFFSETTO:-0600
TZNAME:CST
DTSTART:20231105T070000
END:STANDARD
BEGIN:DAYLIGHT
TZOFFSETFROM:-0600
TZOFFSETTO:-0500
TZNAME:CDT
DTSTART:20240310T080000
END:DAYLIGHT
BEGIN:STANDARD
TZOFFSETFROM:-0500
TZOFFSETTO:-0600
TZNAME:CST
DTSTART:20241103T070000
END:STANDARD
BEGIN:DAYLIGHT
TZOFFSETFROM:-0600
TZOFFSETTO:-0500
TZNAME:CDT
DTSTART:20250309T080000
END:DAYLIGHT
BEGIN:STANDARD
TZOFFSETFROM:-0500
TZOFFSETTO:-0600
TZNAME:CST
DTSTART:20251102T070000
END:STANDARD
END:VTIMEZONE
BEGIN:VEVENT
DTSTART;TZID=America/Chicago:20240711T130000
DTEND;TZID=America/Chicago:20240711T133000
DTSTAMP:20260422T090540
CREATED:20240517T160548Z
LAST-MODIFIED:20240517T160548Z
UID:25791-1720702800-1720704600@help.ehs.com
SUMMARY:New Help Center: An Overview
DESCRIPTION:Welcome to your new VelocityEHS Help Center! Now its time to learn all about it. We have taken your notes and implemented a much more dynamic and effective Help Center to get you the information you need faster than ever before. This training will cover the new Help Center and led by the person that designed and built it. Come get familiar with the new Help Center and all the ways we are working to make your VelocityEHS solutions better! \n  \nRegister Here
URL:https://help.ehs.com/community-events/new-help-center-an-overview/
CATEGORIES:Accelerate,Chemical Management,Control of Work,EHS Management,Environmental,ESG,Industrial Ergonomics,Industrial Hygiene,Office Ergonomics,Operational Risk,Training & Learning
END:VEVENT
END:VCALENDAR