BEGIN:VCALENDAR
VERSION:2.0
PRODID:-//VelocityEHS Help - ECPv6.15.20//NONSGML v1.0//EN
CALSCALE:GREGORIAN
METHOD:PUBLISH
X-WR-CALNAME:VelocityEHS Help
X-ORIGINAL-URL:https://help.ehs.com
X-WR-CALDESC:Events for VelocityEHS Help
REFRESH-INTERVAL;VALUE=DURATION:PT1H
X-Robots-Tag:noindex
X-PUBLISHED-TTL:PT1H
BEGIN:VTIMEZONE
TZID:America/Chicago
BEGIN:DAYLIGHT
TZOFFSETFROM:-0600
TZOFFSETTO:-0500
TZNAME:CDT
DTSTART:20230312T080000
END:DAYLIGHT
BEGIN:STANDARD
TZOFFSETFROM:-0500
TZOFFSETTO:-0600
TZNAME:CST
DTSTART:20231105T070000
END:STANDARD
BEGIN:DAYLIGHT
TZOFFSETFROM:-0600
TZOFFSETTO:-0500
TZNAME:CDT
DTSTART:20240310T080000
END:DAYLIGHT
BEGIN:STANDARD
TZOFFSETFROM:-0500
TZOFFSETTO:-0600
TZNAME:CST
DTSTART:20241103T070000
END:STANDARD
BEGIN:DAYLIGHT
TZOFFSETFROM:-0600
TZOFFSETTO:-0500
TZNAME:CDT
DTSTART:20250309T080000
END:DAYLIGHT
BEGIN:STANDARD
TZOFFSETFROM:-0500
TZOFFSETTO:-0600
TZNAME:CST
DTSTART:20251102T070000
END:STANDARD
END:VTIMEZONE
BEGIN:VEVENT
DTSTART;TZID=America/Chicago:20240410T140000
DTEND;TZID=America/Chicago:20240410T150000
DTSTAMP:20260422T164942
CREATED:20240406T171916Z
LAST-MODIFIED:20240406T171916Z
UID:18651-1712757600-1712761200@help.ehs.com
SUMMARY:EHS – Incident Management Training
DESCRIPTION:Welcome to the VelocityEHS Community EHS Incident Management Training session! This session will take you through the most important aspects of your Incident Management software to get you comfortable\, up\, and running with your solution. This training session is covering your “out of the box” software package as an administrator including all you will need to know on Incidents. If you have questions\, bring them over to the training and we will find the answers for you. We look forward to seeing you there! \nClick Here to Register!
URL:https://help.ehs.com/community-events/ehs-incident-management-training/
CATEGORIES:EHS Management
END:VEVENT
END:VCALENDAR