BEGIN:VCALENDAR
VERSION:2.0
PRODID:-//VelocityEHS Help - ECPv6.15.20//NONSGML v1.0//EN
CALSCALE:GREGORIAN
METHOD:PUBLISH
X-WR-CALNAME:VelocityEHS Help
X-ORIGINAL-URL:https://help.ehs.com
X-WR-CALDESC:Events for VelocityEHS Help
REFRESH-INTERVAL;VALUE=DURATION:PT1H
X-Robots-Tag:noindex
X-PUBLISHED-TTL:PT1H
BEGIN:VTIMEZONE
TZID:America/Chicago
BEGIN:DAYLIGHT
TZOFFSETFROM:-0600
TZOFFSETTO:-0500
TZNAME:CDT
DTSTART:20250309T080000
END:DAYLIGHT
BEGIN:STANDARD
TZOFFSETFROM:-0500
TZOFFSETTO:-0600
TZNAME:CST
DTSTART:20251102T070000
END:STANDARD
BEGIN:DAYLIGHT
TZOFFSETFROM:-0600
TZOFFSETTO:-0500
TZNAME:CDT
DTSTART:20260308T080000
END:DAYLIGHT
BEGIN:STANDARD
TZOFFSETFROM:-0500
TZOFFSETTO:-0600
TZNAME:CST
DTSTART:20261101T070000
END:STANDARD
BEGIN:DAYLIGHT
TZOFFSETFROM:-0600
TZOFFSETTO:-0500
TZNAME:CDT
DTSTART:20270314T080000
END:DAYLIGHT
BEGIN:STANDARD
TZOFFSETFROM:-0500
TZOFFSETTO:-0600
TZNAME:CST
DTSTART:20271107T070000
END:STANDARD
END:VTIMEZONE
BEGIN:VEVENT
DTSTART;TZID=America/Chicago:20260421T100000
DTEND;TZID=America/Chicago:20260421T110000
DTSTAMP:20260421T015837
CREATED:20240406T172556Z
LAST-MODIFIED:20260314T200338Z
UID:18657-1776765600-1776769200@help.ehs.com
SUMMARY:Office Ergonomics: Roundtable [Advanced] Limited Seating Available
DESCRIPTION:The Roundtable events are free to attend and small group sessions where we put together between 5-10 customers\, just like you to: \n\nMeet with members of VelocityEHS who are subject matter experts\nGet answers on product questions\, and even implementation for your staff – find out how other companies are doing it!\nDiscuss challenges\, successes\, and product ideas\nShare with us what would make your solution more efficient\nNetwork with other customers who may have been facing the same challenges!\n\nThese events are a chance for you to share your story with us and get some assistance along the way! Email us using the link below to reserve one of our spots! \nClick here to Email us and Register!
URL:https://help.ehs.com/community-events/office-ergonomics-roundtable/
CATEGORIES:Office Ergonomics
ATTACH;FMTTYPE=image/png:https://help.ehs.com/wp-content/uploads/Icons_1x1in_.125stroke_RGB_Office-e1757087186302.png
END:VEVENT
BEGIN:VEVENT
DTSTART;TZID=America/Chicago:20260421T140000
DTEND;TZID=America/Chicago:20260421T150000
DTSTAMP:20260421T015837
CREATED:20250905T120400Z
LAST-MODIFIED:20260217T143136Z
UID:38354-1776780000-1776783600@help.ehs.com
SUMMARY:Chemical Management: Approval Workflows
DESCRIPTION:This training will teach you how to set up approval workflows for your organization\, and for site-specific processes. Administrators will learn how to use our built-in feature to custom your SDS addition in your e-binder. This one time session will take an in depth look at: \n\nOrganization and Site-Specific workflows\nSingle and Multi Step approvals\nQueue and approval configuration\n\nRegister Now
URL:https://help.ehs.com/community-events/chemical-management-compliant-ghs-labeling/
CATEGORIES:Chemical Management
ATTACH;FMTTYPE=image/png:https://help.ehs.com/wp-content/uploads/Icons_Solutions-and-Brand_1x1in_.125stroke_RGB_Solution_Chemical-Management_Industry_Chemical-e1757086087817.png
END:VEVENT
END:VCALENDAR